BEGIN:VCALENDAR
VERSION:2.0
PRODID:-//Glenlola Collegiate - ECPv5.16.4//NONSGML v1.0//EN
CALSCALE:GREGORIAN
METHOD:PUBLISH
X-WR-CALNAME:Glenlola Collegiate
X-ORIGINAL-URL:https://glenlolacollegiate.net
X-WR-CALDESC:Events for Glenlola Collegiate
BEGIN:VTIMEZONE
TZID:Europe/London
BEGIN:DAYLIGHT
TZOFFSETFROM:+0000
TZOFFSETTO:+0100
TZNAME:BST
DTSTART:20260329T010000
END:DAYLIGHT
BEGIN:STANDARD
TZOFFSETFROM:+0100
TZOFFSETTO:+0000
TZNAME:GMT
DTSTART:20261025T010000
END:STANDARD
END:VTIMEZONE
BEGIN:VEVENT
DTSTART;TZID=Europe/London:20260506T123000
DTEND;TZID=Europe/London:20260506T140000
DTSTAMP:20260423T113949
CREATED:20260423T101329Z
LAST-MODIFIED:20260423T101329Z
UID:28975-1778070600-1778076000@glenlolacollegiate.net
SUMMARY:Year 13 RS Trip to Cafe Cure
DESCRIPTION:
URL:https://glenlolacollegiate.net/event/year-13-rs-trip-to-cafe-cure/
END:VEVENT
BEGIN:VEVENT
DTSTART;TZID=Europe/London:20260506T131500
DTEND;TZID=Europe/London:20260506T141500
DTSTAMP:20260423T113949
CREATED:20260423T101946Z
LAST-MODIFIED:20260423T101946Z
UID:28980-1778073300-1778076900@glenlolacollegiate.net
SUMMARY:Year 11 Bangor Schools Collaborative Art Project
DESCRIPTION:Selected Year 11 pupils attending.
URL:https://glenlolacollegiate.net/event/year-11-bangor-schools-collaborative-art-project-2/
END:VEVENT
BEGIN:VEVENT
DTSTART;TZID=Europe/London:20260506T190000
DTEND;TZID=Europe/London:20260506T210000
DTSTAMP:20260423T113949
CREATED:20260423T090755Z
LAST-MODIFIED:20260423T090755Z
UID:28941-1778094000-1778101200@glenlolacollegiate.net
SUMMARY:Year 14 Leavers' Dinner
DESCRIPTION:The Year 14 Leavers’ Dinner will be held at Clandeboye Lodge.
URL:https://glenlolacollegiate.net/event/year-14-leavers-dinner-3/
END:VEVENT
END:VCALENDAR