BEGIN:VCALENDAR
VERSION:2.0
PRODID:-//Glenlola Collegiate - ECPv5.16.4//NONSGML v1.0//EN
CALSCALE:GREGORIAN
METHOD:PUBLISH
X-WR-CALNAME:Glenlola Collegiate
X-ORIGINAL-URL:https://glenlolacollegiate.net
X-WR-CALDESC:Events for Glenlola Collegiate
BEGIN:VTIMEZONE
TZID:Europe/London
BEGIN:DAYLIGHT
TZOFFSETFROM:+0000
TZOFFSETTO:+0100
TZNAME:BST
DTSTART:20260329T010000
END:DAYLIGHT
BEGIN:STANDARD
TZOFFSETFROM:+0100
TZOFFSETTO:+0000
TZNAME:GMT
DTSTART:20261025T010000
END:STANDARD
END:VTIMEZONE
BEGIN:VEVENT
DTSTART;TZID=Europe/London:20260501T090000
DTEND;TZID=Europe/London:20260503T170000
DTSTAMP:20260423T114348
CREATED:20260423T100256Z
LAST-MODIFIED:20260423T100327Z
UID:28966-1777626000-1777827600@glenlolacollegiate.net
SUMMARY:British Gymnastics Finals
DESCRIPTION:Twelve pupils travelling to Stoke-on-Trent to participate in the British Gymnastics Finals.
URL:https://glenlolacollegiate.net/event/british-gymnastics-finals/
END:VEVENT
BEGIN:VEVENT
DTSTART;TZID=Europe/London:20260502T090000
DTEND;TZID=Europe/London:20260504T170000
DTSTAMP:20260423T114348
CREATED:20260423T100536Z
LAST-MODIFIED:20260423T100536Z
UID:28969-1777712400-1777914000@glenlolacollegiate.net
SUMMARY:Gold Award Duke of Edinburgh Practice Expedition
DESCRIPTION:
URL:https://glenlolacollegiate.net/event/gold-award-duke-of-edinburgh-practice-expedition/
END:VEVENT
END:VCALENDAR