BEGIN:VCALENDAR
VERSION:2.0
PRODID:-//Glenlola Collegiate - ECPv5.16.4//NONSGML v1.0//EN
CALSCALE:GREGORIAN
METHOD:PUBLISH
X-WR-CALNAME:Glenlola Collegiate
X-ORIGINAL-URL:https://glenlolacollegiate.net
X-WR-CALDESC:Events for Glenlola Collegiate
BEGIN:VTIMEZONE
TZID:Europe/London
BEGIN:DAYLIGHT
TZOFFSETFROM:+0000
TZOFFSETTO:+0100
TZNAME:BST
DTSTART:20260329T010000
END:DAYLIGHT
BEGIN:STANDARD
TZOFFSETFROM:+0100
TZOFFSETTO:+0000
TZNAME:GMT
DTSTART:20261025T010000
END:STANDARD
END:VTIMEZONE
BEGIN:VEVENT
DTSTART;TZID=Europe/London:20260429T131500
DTEND;TZID=Europe/London:20260429T151500
DTSTAMP:20260423T114215
CREATED:20260423T095321Z
LAST-MODIFIED:20260423T095321Z
UID:28950-1777468500-1777475700@glenlolacollegiate.net
SUMMARY:Year 11 Bangor Schools Collaborative Art Project
DESCRIPTION:Selected Year 11 pupils attending.
URL:https://glenlolacollegiate.net/event/year-11-bangor-schools-collaborative-art-project/
END:VEVENT
END:VCALENDAR