BEGIN:VCALENDAR
VERSION:2.0
PRODID:-//Glenlola Collegiate - ECPv5.16.4//NONSGML v1.0//EN
CALSCALE:GREGORIAN
METHOD:PUBLISH
X-WR-CALNAME:Glenlola Collegiate
X-ORIGINAL-URL:https://glenlolacollegiate.net
X-WR-CALDESC:Events for Glenlola Collegiate
BEGIN:VTIMEZONE
TZID:Europe/London
BEGIN:DAYLIGHT
TZOFFSETFROM:+0000
TZOFFSETTO:+0100
TZNAME:BST
DTSTART:20260329T010000
END:DAYLIGHT
BEGIN:STANDARD
TZOFFSETFROM:+0100
TZOFFSETTO:+0000
TZNAME:GMT
DTSTART:20261025T010000
END:STANDARD
END:VTIMEZONE
BEGIN:VEVENT
DTSTART;TZID=Europe/London:20260222T130000
DTEND;TZID=Europe/London:20260222T180000
DTSTAMP:20260423T114104
CREATED:20260218T150741Z
LAST-MODIFIED:20260218T150741Z
UID:28647-1771765200-1771783200@glenlolacollegiate.net
SUMMARY:Australia Sports Tour Fundraiser\, Bloomfield Shopping Centre
DESCRIPTION:
URL:https://glenlolacollegiate.net/event/australia-sports-tour-fundraiser-bloomfield-shopping-centre/
END:VEVENT
END:VCALENDAR