BEGIN:VCALENDAR
VERSION:2.0
PRODID:-//Glenlola Collegiate - ECPv5.16.4//NONSGML v1.0//EN
CALSCALE:GREGORIAN
METHOD:PUBLISH
X-WR-CALNAME:Glenlola Collegiate
X-ORIGINAL-URL:https://glenlolacollegiate.net
X-WR-CALDESC:Events for Glenlola Collegiate
BEGIN:VTIMEZONE
TZID:Europe/London
BEGIN:DAYLIGHT
TZOFFSETFROM:+0000
TZOFFSETTO:+0100
TZNAME:BST
DTSTART:20260329T010000
END:DAYLIGHT
BEGIN:STANDARD
TZOFFSETFROM:+0100
TZOFFSETTO:+0000
TZNAME:GMT
DTSTART:20261025T010000
END:STANDARD
END:VTIMEZONE
BEGIN:VEVENT
DTSTART;TZID=Europe/London:20260202T084500
DTEND;TZID=Europe/London:20260203T151500
DTSTAMP:20260423T114347
CREATED:20260129T161254Z
LAST-MODIFIED:20260129T162449Z
UID:24434-1770021900-1770131700@glenlolacollegiate.net
SUMMARY:Year 12 Subject Choice Interiews
DESCRIPTION:Careers interviews in school.
URL:https://glenlolacollegiate.net/event/year-12-subject-choice-interiews/
END:VEVENT
END:VCALENDAR