BEGIN:VCALENDAR
VERSION:2.0
PRODID:-//Glenlola Collegiate - ECPv5.16.4//NONSGML v1.0//EN
CALSCALE:GREGORIAN
METHOD:PUBLISH
X-WR-CALNAME:Glenlola Collegiate
X-ORIGINAL-URL:https://glenlolacollegiate.net
X-WR-CALDESC:Events for Glenlola Collegiate
BEGIN:VTIMEZONE
TZID:Europe/London
BEGIN:DAYLIGHT
TZOFFSETFROM:+0000
TZOFFSETTO:+0100
TZNAME:BST
DTSTART:20260329T010000
END:DAYLIGHT
BEGIN:STANDARD
TZOFFSETFROM:+0100
TZOFFSETTO:+0000
TZNAME:GMT
DTSTART:20261025T010000
END:STANDARD
END:VTIMEZONE
BEGIN:VEVENT
DTSTART;TZID=Europe/London:20260126T084500
DTEND;TZID=Europe/London:20260126T144500
DTSTAMP:20260423T114106
CREATED:20260107T125946Z
LAST-MODIFIED:20260107T125946Z
UID:28264-1769417100-1769438700@glenlolacollegiate.net
SUMMARY:Early School Closure
DESCRIPTION:School will finish for all pupils at 2.45pm to facilitate the Year 13 parent consultations.
URL:https://glenlolacollegiate.net/event/early-school-closure-67/
END:VEVENT
BEGIN:VEVENT
DTSTART;TZID=Europe/London:20260126T090000
DTEND;TZID=Europe/London:20260130T153000
DTSTAMP:20260423T114106
CREATED:20260107T120831Z
LAST-MODIFIED:20260107T120831Z
UID:28251-1769418000-1769787000@glenlolacollegiate.net
SUMMARY:Year 10 Subject Choice Interviews
DESCRIPTION:In-school event.
URL:https://glenlolacollegiate.net/event/year-10-subject-choice-interviews-3/
END:VEVENT
BEGIN:VEVENT
DTSTART;TZID=Europe/London:20260126T150000
DTEND;TZID=Europe/London:20260126T170000
DTSTAMP:20260423T114106
CREATED:20260107T120722Z
LAST-MODIFIED:20260107T125749Z
UID:28248-1769439600-1769446800@glenlolacollegiate.net
SUMMARY:Year 13 Parent Consultations
DESCRIPTION:Online event. School will finish for all pupils at 2.45pm.
URL:https://glenlolacollegiate.net/event/year-13-parent-consultations-3/
END:VEVENT
END:VCALENDAR