BEGIN:VCALENDAR
VERSION:2.0
PRODID:-//Glenlola Collegiate - ECPv5.16.4//NONSGML v1.0//EN
CALSCALE:GREGORIAN
METHOD:PUBLISH
X-WR-CALNAME:Glenlola Collegiate
X-ORIGINAL-URL:https://glenlolacollegiate.net
X-WR-CALDESC:Events for Glenlola Collegiate
BEGIN:VTIMEZONE
TZID:Europe/London
BEGIN:DAYLIGHT
TZOFFSETFROM:+0000
TZOFFSETTO:+0100
TZNAME:BST
DTSTART:20260329T010000
END:DAYLIGHT
BEGIN:STANDARD
TZOFFSETFROM:+0100
TZOFFSETTO:+0000
TZNAME:GMT
DTSTART:20261025T010000
END:STANDARD
END:VTIMEZONE
BEGIN:VEVENT
DTSTART;TZID=Europe/London:20260122T084500
DTEND;TZID=Europe/London:20260122T131500
DTSTAMP:20260423T113747
CREATED:20260108T095256Z
LAST-MODIFIED:20260108T095256Z
UID:28310-1769071500-1769087700@glenlolacollegiate.net
SUMMARY:Early School Closure
DESCRIPTION:School will finish at 1.15pm to facilitate preparations for Open Night.
URL:https://glenlolacollegiate.net/event/early-school-closure-68/
END:VEVENT
BEGIN:VEVENT
DTSTART;TZID=Europe/London:20260122T183000
DTEND;TZID=Europe/London:20260122T210000
DTSTAMP:20260423T113747
CREATED:20251126T093522Z
LAST-MODIFIED:20251126T093522Z
UID:28172-1769106600-1769115600@glenlolacollegiate.net
SUMMARY:Open Night 2026
DESCRIPTION:Open night for P7 pupils and their parents. \nThe Headmaster’s address will take place at 6:45pm and 7:45pm.
URL:https://glenlolacollegiate.net/event/open-night-2026/
END:VEVENT
END:VCALENDAR