BEGIN:VCALENDAR
VERSION:2.0
PRODID:-//Glenlola Collegiate - ECPv5.16.4//NONSGML v1.0//EN
CALSCALE:GREGORIAN
METHOD:PUBLISH
X-WR-CALNAME:Glenlola Collegiate
X-ORIGINAL-URL:https://glenlolacollegiate.net
X-WR-CALDESC:Events for Glenlola Collegiate
BEGIN:VTIMEZONE
TZID:Europe/London
BEGIN:DAYLIGHT
TZOFFSETFROM:+0000
TZOFFSETTO:+0100
TZNAME:BST
DTSTART:20260329T010000
END:DAYLIGHT
BEGIN:STANDARD
TZOFFSETFROM:+0100
TZOFFSETTO:+0000
TZNAME:GMT
DTSTART:20261025T010000
END:STANDARD
END:VTIMEZONE
BEGIN:VEVENT
DTSTART;TZID=Europe/London:20260119T090000
DTEND;TZID=Europe/London:20260119T120000
DTSTAMP:20260423T113952
CREATED:20260107T093415Z
LAST-MODIFIED:20260107T093415Z
UID:28234-1768813200-1768824000@glenlolacollegiate.net
SUMMARY:Year 8 Health Appraisals
DESCRIPTION:School-based event.
URL:https://glenlolacollegiate.net/event/year-8-health-appraisals-3/
END:VEVENT
END:VCALENDAR