BEGIN:VCALENDAR
VERSION:2.0
PRODID:-//Glenlola Collegiate - ECPv5.16.4//NONSGML v1.0//EN
CALSCALE:GREGORIAN
METHOD:PUBLISH
X-WR-CALNAME:Glenlola Collegiate
X-ORIGINAL-URL:https://glenlolacollegiate.net
X-WR-CALDESC:Events for Glenlola Collegiate
BEGIN:VTIMEZONE
TZID:Europe/London
BEGIN:DAYLIGHT
TZOFFSETFROM:+0000
TZOFFSETTO:+0100
TZNAME:BST
DTSTART:20260329T010000
END:DAYLIGHT
BEGIN:STANDARD
TZOFFSETFROM:+0100
TZOFFSETTO:+0000
TZNAME:GMT
DTSTART:20261025T010000
END:STANDARD
END:VTIMEZONE
BEGIN:VEVENT
DTSTART;TZID=Europe/London:20260113T193000
DTEND;TZID=Europe/London:20260116T213000
DTSTAMP:20260423T114032
CREATED:20260107T092353Z
LAST-MODIFIED:20260107T092353Z
UID:28222-1768332600-1768599000@glenlolacollegiate.net
SUMMARY:School Musical
DESCRIPTION:Glenlola Collegiate presents Oliver! Tickets available from the School\, £12 adults\, £6 children.
URL:https://glenlolacollegiate.net/event/school-musical/
END:VEVENT
BEGIN:VEVENT
DTSTART;TZID=Europe/London:20260115T084500
DTEND;TZID=Europe/London:20260115T121500
DTSTAMP:20260423T114032
CREATED:20260108T112158Z
LAST-MODIFIED:20260108T112158Z
UID:28321-1768466700-1768479300@glenlolacollegiate.net
SUMMARY:Early School Closure
DESCRIPTION:School will finish for all pupils at 12.15pm to facilitate the Year 12 parent consultations. \nCanteen facilities will be available for free school meals pupils only.
URL:https://glenlolacollegiate.net/event/early-school-closure-70/
END:VEVENT
BEGIN:VEVENT
DTSTART;TZID=Europe/London:20260115T131500
DTEND;TZID=Europe/London:20260115T151500
DTSTAMP:20260423T114032
CREATED:20260107T093058Z
LAST-MODIFIED:20260107T093058Z
UID:28231-1768482900-1768490100@glenlolacollegiate.net
SUMMARY:Year 12 Parent Consultations
DESCRIPTION:Online event.
URL:https://glenlolacollegiate.net/event/year-12-parent-consultations-2/
END:VEVENT
END:VCALENDAR