BEGIN:VCALENDAR
VERSION:2.0
PRODID:-//Glenlola Collegiate - ECPv5.16.4//NONSGML v1.0//EN
CALSCALE:GREGORIAN
METHOD:PUBLISH
X-WR-CALNAME:Glenlola Collegiate
X-ORIGINAL-URL:https://glenlolacollegiate.net
X-WR-CALDESC:Events for Glenlola Collegiate
BEGIN:VTIMEZONE
TZID:Europe/London
BEGIN:DAYLIGHT
TZOFFSETFROM:+0000
TZOFFSETTO:+0100
TZNAME:BST
DTSTART:20250330T010000
END:DAYLIGHT
BEGIN:STANDARD
TZOFFSETFROM:+0100
TZOFFSETTO:+0000
TZNAME:GMT
DTSTART:20251026T010000
END:STANDARD
END:VTIMEZONE
BEGIN:VEVENT
DTSTART;TZID=Europe/London:20250428T084500
DTEND;TZID=Europe/London:20250428T151500
DTSTAMP:20260424T030424
CREATED:20250121T130641Z
LAST-MODIFIED:20250121T132140Z
UID:26695-1745829900-1745853300@glenlolacollegiate.net
SUMMARY:Summer Term Starts
DESCRIPTION:School starts for all pupils at 8.45am.
URL:https://glenlolacollegiate.net/event/summer-term-starts-4/
END:VEVENT
BEGIN:VEVENT
DTSTART;TZID=Europe/London:20250428T084500
DTEND;TZID=Europe/London:20250428T151500
DTSTAMP:20260424T030424
CREATED:20250310T135633Z
LAST-MODIFIED:20250310T135633Z
UID:26960-1745829900-1745853300@glenlolacollegiate.net
SUMMARY:A2 Art Exam
DESCRIPTION:Practical exam.
URL:https://glenlolacollegiate.net/event/a2-art-exam/
END:VEVENT
END:VCALENDAR