BEGIN:VCALENDAR
VERSION:2.0
PRODID:-//Glenlola Collegiate - ECPv5.16.4//NONSGML v1.0//EN
CALSCALE:GREGORIAN
METHOD:PUBLISH
X-WR-CALNAME:Glenlola Collegiate
X-ORIGINAL-URL:https://glenlolacollegiate.net
X-WR-CALDESC:Events for Glenlola Collegiate
BEGIN:VTIMEZONE
TZID:Europe/London
BEGIN:DAYLIGHT
TZOFFSETFROM:+0000
TZOFFSETTO:+0100
TZNAME:BST
DTSTART:20250330T010000
END:DAYLIGHT
BEGIN:STANDARD
TZOFFSETFROM:+0100
TZOFFSETTO:+0000
TZNAME:GMT
DTSTART:20251026T010000
END:STANDARD
END:VTIMEZONE
BEGIN:VEVENT
DTSTART;TZID=Europe/London:20250207T090000
DTEND;TZID=Europe/London:20250207T151500
DTSTAMP:20260425T162541
CREATED:20250107T123739Z
LAST-MODIFIED:20250107T123739Z
UID:26519-1738918800-1738941300@glenlolacollegiate.net
SUMMARY:Swim Ulster Senior Schools' Cup
DESCRIPTION:Sporting event\, Aurora Leisure Centre\, Bangor.
URL:https://glenlolacollegiate.net/event/swim-ulster-senior-schools-cup/
END:VEVENT
BEGIN:VEVENT
DTSTART;TZID=Europe/London:20250207T090000
DTEND;TZID=Europe/London:20250207T151500
DTSTAMP:20260425T162541
CREATED:20250107T124053Z
LAST-MODIFIED:20250107T124053Z
UID:26522-1738918800-1738941300@glenlolacollegiate.net
SUMMARY:Ulster Fusion Dance Competition
DESCRIPTION:Sporting event. QUB Physical Education Centre\, Belfast.
URL:https://glenlolacollegiate.net/event/ulster-fusion-dance-competition/
END:VEVENT
BEGIN:VEVENT
DTSTART;TZID=Europe/London:20250207T124500
DTEND;TZID=Europe/London:20250207T131500
DTSTAMP:20260425T162541
CREATED:20250107T124234Z
LAST-MODIFIED:20250107T124234Z
UID:26525-1738932300-1738934100@glenlolacollegiate.net
SUMMARY:Year 13 Scottish Universities Talk
DESCRIPTION:School-based careers event.
URL:https://glenlolacollegiate.net/event/year-13-scottish-universities-talk/
END:VEVENT
BEGIN:VEVENT
DTSTART;TZID=Europe/London:20250207T140000
DTEND;TZID=Europe/London:20250207T151500
DTSTAMP:20260425T162541
CREATED:20250107T124403Z
LAST-MODIFIED:20250107T124403Z
UID:26528-1738936800-1738941300@glenlolacollegiate.net
SUMMARY:Year 14 Extravaganza
DESCRIPTION:In-school charity event.
URL:https://glenlolacollegiate.net/event/year-14-extravaganza/
END:VEVENT
END:VCALENDAR