BEGIN:VCALENDAR
VERSION:2.0
PRODID:-//Glenlola Collegiate - ECPv5.16.4//NONSGML v1.0//EN
CALSCALE:GREGORIAN
METHOD:PUBLISH
X-WR-CALNAME:Glenlola Collegiate
X-ORIGINAL-URL:https://glenlolacollegiate.net
X-WR-CALDESC:Events for Glenlola Collegiate
BEGIN:VTIMEZONE
TZID:Europe/London
BEGIN:DAYLIGHT
TZOFFSETFROM:+0000
TZOFFSETTO:+0100
TZNAME:BST
DTSTART:20250330T010000
END:DAYLIGHT
BEGIN:STANDARD
TZOFFSETFROM:+0100
TZOFFSETTO:+0000
TZNAME:GMT
DTSTART:20251026T010000
END:STANDARD
END:VTIMEZONE
BEGIN:VEVENT
DTSTART;TZID=Europe/London:20250203T090000
DTEND;TZID=Europe/London:20250204T151500
DTSTAMP:20260425T220731
CREATED:20250107T123000Z
LAST-MODIFIED:20260129T160836Z
UID:26508-1738573200-1738682100@glenlolacollegiate.net
SUMMARY:Year 12 Subject Choice Interviews
DESCRIPTION:In-school careers event. \nAS Level Subject Choice Book 2025
URL:https://glenlolacollegiate.net/event/year-12-subject-choice-interviews-2/
END:VEVENT
BEGIN:VEVENT
DTSTART;TZID=Europe/London:20250204T093000
DTEND;TZID=Europe/London:20250204T123000
DTSTAMP:20260425T220731
CREATED:20250128T122734Z
LAST-MODIFIED:20250128T122734Z
UID:26785-1738661400-1738672200@glenlolacollegiate.net
SUMMARY:Sports Workshop
DESCRIPTION:Shared education event\, Bangor Grammar School.  Three year 13 pupils involved.
URL:https://glenlolacollegiate.net/event/sports-workshop/
END:VEVENT
BEGIN:VEVENT
DTSTART;TZID=Europe/London:20250204T153000
DTEND;TZID=Europe/London:20250204T163000
DTSTAMP:20260425T220731
CREATED:20250128T122553Z
LAST-MODIFIED:20250128T122553Z
UID:26782-1738683000-1738686600@glenlolacollegiate.net
SUMMARY:French Trip Parent Meeting
DESCRIPTION:Parent meeting for pupils going on the French trip to Normandy.  Cygnet Hall.
URL:https://glenlolacollegiate.net/event/french-trip-parent-meeting/
END:VEVENT
END:VCALENDAR