BEGIN:VCALENDAR
VERSION:2.0
PRODID:-//Glenlola Collegiate - ECPv5.16.4//NONSGML v1.0//EN
CALSCALE:GREGORIAN
METHOD:PUBLISH
X-WR-CALNAME:Glenlola Collegiate
X-ORIGINAL-URL:https://glenlolacollegiate.net
X-WR-CALDESC:Events for Glenlola Collegiate
BEGIN:VTIMEZONE
TZID:UTC
BEGIN:STANDARD
TZOFFSETFROM:+0000
TZOFFSETTO:+0000
TZNAME:UTC
DTSTART:20180101T000000
END:STANDARD
END:VTIMEZONE
BEGIN:VEVENT
DTSTART;TZID=UTC:20181218T084500
DTEND;TZID=UTC:20181218T131500
DTSTAMP:20260425T121721
CREATED:20181206T090330Z
LAST-MODIFIED:20181206T114009Z
UID:15110-1545122700-1545138900@glenlolacollegiate.net
SUMMARY:Early School Closure
DESCRIPTION:School will finish at 1.15pm for all pupils due to the Year 11 Parent Consultation afternoon.
URL:https://glenlolacollegiate.net/event/early-school-closure-8/
END:VEVENT
BEGIN:VEVENT
DTSTART;TZID=UTC:20181218T133000
DTEND;TZID=UTC:20181218T153000
DTSTAMP:20260425T121721
CREATED:20181003T111138Z
LAST-MODIFIED:20181206T085936Z
UID:14194-1545139800-1545147000@glenlolacollegiate.net
SUMMARY:Year 11 Parent Consultation
DESCRIPTION:
URL:https://glenlolacollegiate.net/event/year-11-parent-consultation/
END:VEVENT
END:VCALENDAR