BEGIN:VCALENDAR
VERSION:2.0
PRODID:-//Glenlola Collegiate - ECPv5.16.4//NONSGML v1.0//EN
CALSCALE:GREGORIAN
METHOD:PUBLISH
X-WR-CALNAME:Glenlola Collegiate
X-ORIGINAL-URL:https://glenlolacollegiate.net
X-WR-CALDESC:Events for Glenlola Collegiate
BEGIN:VTIMEZONE
TZID:UTC
BEGIN:STANDARD
TZOFFSETFROM:+0000
TZOFFSETTO:+0000
TZNAME:UTC
DTSTART:20180101T000000
END:STANDARD
END:VTIMEZONE
BEGIN:VEVENT
DTSTART;TZID=UTC:20181212T183000
DTEND;TZID=UTC:20181212T203000
DTSTAMP:20260426T005039
CREATED:20181003T110256Z
LAST-MODIFIED:20181003T110256Z
UID:14188-1544639400-1544646600@glenlolacollegiate.net
SUMMARY:Ski Trip Information Evening
DESCRIPTION:School based event.
URL:https://glenlolacollegiate.net/event/ski-trip-information-evening/
END:VEVENT
END:VCALENDAR