BEGIN:VCALENDAR
VERSION:2.0
PRODID:-//Glenlola Collegiate - ECPv5.16.4//NONSGML v1.0//EN
CALSCALE:GREGORIAN
METHOD:PUBLISH
X-WR-CALNAME:Glenlola Collegiate
X-ORIGINAL-URL:https://glenlolacollegiate.net
X-WR-CALDESC:Events for Glenlola Collegiate
BEGIN:VTIMEZONE
TZID:UTC
BEGIN:STANDARD
TZOFFSETFROM:+0000
TZOFFSETTO:+0000
TZNAME:UTC
DTSTART:20180101T000000
END:STANDARD
END:VTIMEZONE
BEGIN:VEVENT
DTSTART;TZID=UTC:20181211T090000
DTEND;TZID=UTC:20181211T153000
DTSTAMP:20260426T023722
CREATED:20181003T105522Z
LAST-MODIFIED:20181003T105522Z
UID:14182-1544518800-1544542200@glenlolacollegiate.net
SUMMARY:Year 12 Success Skills Workshop
DESCRIPTION:Three classes attend morning session\, 3 the afternoon session.
URL:https://glenlolacollegiate.net/event/year-12-success-skills-workshop/
END:VEVENT
BEGIN:VEVENT
DTSTART;TZID=UTC:20181211T193000
DTEND;TZID=UTC:20181211T220000
DTSTAMP:20260426T023722
CREATED:20181003T105633Z
LAST-MODIFIED:20181011T105129Z
UID:14185-1544556600-1544565600@glenlolacollegiate.net
SUMMARY:School Carol Service
DESCRIPTION:
URL:https://glenlolacollegiate.net/event/school-carol-service/
END:VEVENT
END:VCALENDAR