BEGIN:VCALENDAR
VERSION:2.0
PRODID:-//Glenlola Collegiate - ECPv5.16.4//NONSGML v1.0//EN
CALSCALE:GREGORIAN
METHOD:PUBLISH
X-WR-CALNAME:Glenlola Collegiate
X-ORIGINAL-URL:https://glenlolacollegiate.net
X-WR-CALDESC:Events for Glenlola Collegiate
BEGIN:VTIMEZONE
TZID:UTC
BEGIN:STANDARD
TZOFFSETFROM:+0000
TZOFFSETTO:+0000
TZNAME:UTC
DTSTART:20180101T000000
END:STANDARD
END:VTIMEZONE
BEGIN:VEVENT
DTSTART;TZID=UTC:20181130T090000
DTEND;TZID=UTC:20181130T170000
DTSTAMP:20260425T024849
CREATED:20181121T115903Z
LAST-MODIFIED:20181121T120453Z
UID:14960-1543568400-1543597200@glenlolacollegiate.net
SUMMARY:Young Enterprise Trade Fair
DESCRIPTION:Young Enterprise Trade Fair\, St George’s Market\, Belfast.  Year 13 pupils involved.
URL:https://glenlolacollegiate.net/event/young-enterprise-trade-fair/
END:VEVENT
END:VCALENDAR