BEGIN:VCALENDAR
VERSION:2.0
PRODID:-//Glenlola Collegiate - ECPv5.16.4//NONSGML v1.0//EN
CALSCALE:GREGORIAN
METHOD:PUBLISH
X-WR-CALNAME:Glenlola Collegiate
X-ORIGINAL-URL:https://glenlolacollegiate.net
X-WR-CALDESC:Events for Glenlola Collegiate
BEGIN:VTIMEZONE
TZID:Europe/London
BEGIN:DAYLIGHT
TZOFFSETFROM:+0000
TZOFFSETTO:+0100
TZNAME:BST
DTSTART:20260329T010000
END:DAYLIGHT
BEGIN:STANDARD
TZOFFSETFROM:+0100
TZOFFSETTO:+0000
TZNAME:GMT
DTSTART:20261025T010000
END:STANDARD
END:VTIMEZONE
BEGIN:VEVENT
DTSTART;TZID=Europe/London:20260430T183000
DTEND;TZID=Europe/London:20260430T223000
DTSTAMP:20260423T150406
CREATED:20260423T095848Z
LAST-MODIFIED:20260423T095848Z
UID:28963-1777573800-1777588200@glenlolacollegiate.net
SUMMARY:Young Enterprise Awards Dinner
DESCRIPTION:Young Enterprise pupils attending.
URL:https://glenlolacollegiate.net/event/young-enterprise-awards-dinner-2/
END:VEVENT
END:VCALENDAR