BEGIN:VCALENDAR
VERSION:2.0
PRODID:-//Glenlola Collegiate - ECPv5.16.4//NONSGML v1.0//EN
CALSCALE:GREGORIAN
METHOD:PUBLISH
X-WR-CALNAME:Glenlola Collegiate
X-ORIGINAL-URL:https://glenlolacollegiate.net
X-WR-CALDESC:Events for Glenlola Collegiate
BEGIN:VTIMEZONE
TZID:Europe/London
BEGIN:DAYLIGHT
TZOFFSETFROM:+0000
TZOFFSETTO:+0100
TZNAME:BST
DTSTART:20240331T010000
END:DAYLIGHT
BEGIN:STANDARD
TZOFFSETFROM:+0100
TZOFFSETTO:+0000
TZNAME:GMT
DTSTART:20241027T010000
END:STANDARD
END:VTIMEZONE
BEGIN:VEVENT
DTSTART;TZID=Europe/London:20241121T090000
DTEND;TZID=Europe/London:20241122T124500
DTSTAMP:20260423T135512
CREATED:20240814T104702Z
LAST-MODIFIED:20241101T142925Z
UID:25885-1732179600-1732279500@glenlolacollegiate.net
SUMMARY:Years 8-10 Winter Exams
DESCRIPTION:Junior School Winter Exams 24 Final\nSchool Winter Examinations 2024 General Info
URL:https://glenlolacollegiate.net/event/years-8-10-winter-exams-3/
END:VEVENT
END:VCALENDAR