BEGIN:VCALENDAR
VERSION:2.0
PRODID:-//Glenlola Collegiate - ECPv5.16.4//NONSGML v1.0//EN
CALSCALE:GREGORIAN
METHOD:PUBLISH
X-WR-CALNAME:Glenlola Collegiate
X-ORIGINAL-URL:https://glenlolacollegiate.net
X-WR-CALDESC:Events for Glenlola Collegiate
BEGIN:VTIMEZONE
TZID:Europe/London
BEGIN:DAYLIGHT
TZOFFSETFROM:+0000
TZOFFSETTO:+0100
TZNAME:BST
DTSTART:20260329T010000
END:DAYLIGHT
BEGIN:STANDARD
TZOFFSETFROM:+0100
TZOFFSETTO:+0000
TZNAME:GMT
DTSTART:20261025T010000
END:STANDARD
END:VTIMEZONE
BEGIN:VEVENT
DTSTART;TZID=Europe/London:20260619T101500
DTEND;TZID=Europe/London:20260619T111500
DTSTAMP:20260423T100502
CREATED:20260112T110956Z
LAST-MODIFIED:20260112T110956Z
UID:28446-1781864100-1781867700@glenlolacollegiate.net
SUMMARY:Year 9 Made for More Presentation
DESCRIPTION:School-based event.
URL:https://glenlolacollegiate.net/event/year-9-made-for-more-presentation-3/
END:VEVENT
END:VCALENDAR