BEGIN:VCALENDAR
VERSION:2.0
PRODID:-//Glenlola Collegiate - ECPv5.16.4//NONSGML v1.0//EN
CALSCALE:GREGORIAN
METHOD:PUBLISH
X-WR-CALNAME:Glenlola Collegiate
X-ORIGINAL-URL:https://glenlolacollegiate.net
X-WR-CALDESC:Events for Glenlola Collegiate
BEGIN:VTIMEZONE
TZID:UTC
BEGIN:STANDARD
TZOFFSETFROM:+0000
TZOFFSETTO:+0000
TZNAME:UTC
DTSTART:20180101T000000
END:STANDARD
END:VTIMEZONE
BEGIN:VEVENT
DTSTART;TZID=UTC:20181130T090000
DTEND;TZID=UTC:20181130T153000
DTSTAMP:20260425T044239
CREATED:20181003T102026Z
LAST-MODIFIED:20181003T102026Z
UID:14172-1543568400-1543591800@glenlolacollegiate.net
SUMMARY:Year 9 Explore Enterprise Workshop
DESCRIPTION:Three classes attend morning session\, 3 attend afternoon session.
URL:https://glenlolacollegiate.net/event/year-9-explore-enterprise-workshop/
END:VEVENT
END:VCALENDAR