BEGIN:VCALENDAR
VERSION:2.0
PRODID:-//Glenlola Collegiate - ECPv5.16.4//NONSGML v1.0//EN
CALSCALE:GREGORIAN
METHOD:PUBLISH
X-WR-CALNAME:Glenlola Collegiate
X-ORIGINAL-URL:https://glenlolacollegiate.net
X-WR-CALDESC:Events for Glenlola Collegiate
BEGIN:VTIMEZONE
TZID:Europe/London
BEGIN:DAYLIGHT
TZOFFSETFROM:+0000
TZOFFSETTO:+0100
TZNAME:BST
DTSTART:20230326T010000
END:DAYLIGHT
BEGIN:STANDARD
TZOFFSETFROM:+0100
TZOFFSETTO:+0000
TZNAME:GMT
DTSTART:20231029T010000
END:STANDARD
END:VTIMEZONE
BEGIN:VEVENT
DTSTART;TZID=Europe/London:20230829T084500
DTEND;TZID=Europe/London:20230829T123000
DTSTAMP:20260421T022545
CREATED:20230725T082944Z
LAST-MODIFIED:20230725T083016Z
UID:23853-1693298700-1693312200@glenlolacollegiate.net
SUMMARY:Year 8 Pupils Attend
DESCRIPTION:Year 8 pupils only attend.  School finishes at 12.30pm.
URL:https://glenlolacollegiate.net/event/year-8-pupils-attend-3/
END:VEVENT
END:VCALENDAR