BEGIN:VCALENDAR
VERSION:2.0
PRODID:-//Glenlola Collegiate - ECPv5.16.4//NONSGML v1.0//EN
CALSCALE:GREGORIAN
METHOD:PUBLISH
X-WR-CALNAME:Glenlola Collegiate
X-ORIGINAL-URL:https://glenlolacollegiate.net
X-WR-CALDESC:Events for Glenlola Collegiate
BEGIN:VTIMEZONE
TZID:Europe/London
BEGIN:DAYLIGHT
TZOFFSETFROM:+0000
TZOFFSETTO:+0100
TZNAME:BST
DTSTART:20250330T010000
END:DAYLIGHT
BEGIN:STANDARD
TZOFFSETFROM:+0100
TZOFFSETTO:+0000
TZNAME:GMT
DTSTART:20251026T010000
END:STANDARD
END:VTIMEZONE
BEGIN:VEVENT
DTSTART;TZID=Europe/London:20250926T091500
DTEND;TZID=Europe/London:20250926T110000
DTSTAMP:20260423T212412
CREATED:20250812T114938Z
LAST-MODIFIED:20250812T114938Z
UID:27625-1758878100-1758884400@glenlolacollegiate.net
SUMMARY:Year 8 Love for Life Presentation
DESCRIPTION:School-based event.
URL:https://glenlolacollegiate.net/event/year-8-love-for-life-presentation-2/
END:VEVENT
END:VCALENDAR