BEGIN:VCALENDAR
VERSION:2.0
PRODID:-//Glenlola Collegiate - ECPv5.16.4//NONSGML v1.0//EN
CALSCALE:GREGORIAN
METHOD:PUBLISH
X-WR-CALNAME:Glenlola Collegiate
X-ORIGINAL-URL:https://glenlolacollegiate.net
X-WR-CALDESC:Events for Glenlola Collegiate
BEGIN:VTIMEZONE
TZID:Europe/London
BEGIN:DAYLIGHT
TZOFFSETFROM:+0000
TZOFFSETTO:+0100
TZNAME:BST
DTSTART:20250330T010000
END:DAYLIGHT
BEGIN:STANDARD
TZOFFSETFROM:+0100
TZOFFSETTO:+0000
TZNAME:GMT
DTSTART:20251026T010000
END:STANDARD
END:VTIMEZONE
BEGIN:VEVENT
DTSTART;TZID=Europe/London:20250924T173000
DTEND;TZID=Europe/London:20250924T213000
DTSTAMP:20260423T194313
CREATED:20250812T113701Z
LAST-MODIFIED:20250812T113701Z
UID:27616-1758735000-1758749400@glenlolacollegiate.net
SUMMARY:Year 14 Formal
DESCRIPTION:Clandeboye Lodge Hotel.
URL:https://glenlolacollegiate.net/event/year-14-formal-6/
END:VEVENT
END:VCALENDAR