BEGIN:VCALENDAR
VERSION:2.0
PRODID:-//Glenlola Collegiate - ECPv5.16.4//NONSGML v1.0//EN
CALSCALE:GREGORIAN
METHOD:PUBLISH
X-WR-CALNAME:Glenlola Collegiate
X-ORIGINAL-URL:https://glenlolacollegiate.net
X-WR-CALDESC:Events for Glenlola Collegiate
BEGIN:VTIMEZONE
TZID:UTC
BEGIN:STANDARD
TZOFFSETFROM:+0000
TZOFFSETTO:+0000
TZNAME:UTC
DTSTART:20200101T000000
END:STANDARD
END:VTIMEZONE
BEGIN:VEVENT
DTSTART;TZID=UTC:20200214T091000
DTEND;TZID=UTC:20200214T123000
DTSTAMP:20260424T053538
CREATED:20191210T102106Z
LAST-MODIFIED:20191210T135922Z
UID:17750-1581671400-1581683400@glenlolacollegiate.net
SUMMARY:Year 14 Biology Workshop
DESCRIPTION:SENTINUS will be coming in to school periods 1-3 to carry out electrophoresis with Year 14 Biologists. \n 
URL:https://glenlolacollegiate.net/event/year-14-biology-workshop/
END:VEVENT
END:VCALENDAR