BEGIN:VCALENDAR
VERSION:2.0
PRODID:-//Glenlola Collegiate - ECPv5.16.4//NONSGML v1.0//EN
CALSCALE:GREGORIAN
METHOD:PUBLISH
X-WR-CALNAME:Glenlola Collegiate
X-ORIGINAL-URL:https://glenlolacollegiate.net
X-WR-CALDESC:Events for Glenlola Collegiate
BEGIN:VTIMEZONE
TZID:Europe/London
BEGIN:DAYLIGHT
TZOFFSETFROM:+0000
TZOFFSETTO:+0100
TZNAME:BST
DTSTART:20240331T010000
END:DAYLIGHT
BEGIN:STANDARD
TZOFFSETFROM:+0100
TZOFFSETTO:+0000
TZNAME:GMT
DTSTART:20241027T010000
END:STANDARD
END:VTIMEZONE
BEGIN:VEVENT
DTSTART;TZID=Europe/London:20240503T084500
DTEND;TZID=Europe/London:20240503T151500
DTSTAMP:20260424T093523
CREATED:20240415T113709Z
LAST-MODIFIED:20240415T113950Z
UID:25050-1714725900-1714749300@glenlolacollegiate.net
SUMMARY:Year 13 Last Day Before Study Leave
DESCRIPTION:Full school day for Year 13 pupils.
URL:https://glenlolacollegiate.net/event/year-13-last-day-before-study-leave/
END:VEVENT
END:VCALENDAR