BEGIN:VCALENDAR
VERSION:2.0
PRODID:-//Glenlola Collegiate - ECPv5.16.4//NONSGML v1.0//EN
CALSCALE:GREGORIAN
METHOD:PUBLISH
X-WR-CALNAME:Glenlola Collegiate
X-ORIGINAL-URL:https://glenlolacollegiate.net
X-WR-CALDESC:Events for Glenlola Collegiate
BEGIN:VTIMEZONE
TZID:UTC
BEGIN:STANDARD
TZOFFSETFROM:+0000
TZOFFSETTO:+0000
TZNAME:UTC
DTSTART:20200101T000000
END:STANDARD
END:VTIMEZONE
BEGIN:VEVENT
DTSTART;TZID=UTC:20200212T090000
DTEND;TZID=UTC:20200212T153000
DTSTAMP:20260424T144230
CREATED:20200129T100952Z
LAST-MODIFIED:20200129T100952Z
UID:18219-1581498000-1581521400@glenlolacollegiate.net
SUMMARY:Year 13 Business Studies Visit to QUB Management School
DESCRIPTION:Five Year 13 pupils involved.
URL:https://glenlolacollegiate.net/event/year-13-business-studies-visit-to-qub-management-school/
END:VEVENT
END:VCALENDAR