BEGIN:VCALENDAR
VERSION:2.0
PRODID:-//Glenlola Collegiate - ECPv5.16.4//NONSGML v1.0//EN
CALSCALE:GREGORIAN
METHOD:PUBLISH
X-WR-CALNAME:Glenlola Collegiate
X-ORIGINAL-URL:https://glenlolacollegiate.net
X-WR-CALDESC:Events for Glenlola Collegiate
BEGIN:VTIMEZONE
TZID:Europe/London
BEGIN:DAYLIGHT
TZOFFSETFROM:+0000
TZOFFSETTO:+0100
TZNAME:BST
DTSTART:20260329T010000
END:DAYLIGHT
BEGIN:STANDARD
TZOFFSETFROM:+0100
TZOFFSETTO:+0000
TZNAME:GMT
DTSTART:20261025T010000
END:STANDARD
END:VTIMEZONE
BEGIN:VEVENT
DTSTART;TZID=Europe/London:20260618T084500
DTEND;TZID=Europe/London:20260618T151500
DTSTAMP:20260423T100715
CREATED:20260112T105602Z
LAST-MODIFIED:20260112T105602Z
UID:28440-1781772300-1781795700@glenlolacollegiate.net
SUMMARY:Year 11 Career Planning Day
DESCRIPTION:
URL:https://glenlolacollegiate.net/event/year-11-career-planning-day-3/
END:VEVENT
END:VCALENDAR