BEGIN:VCALENDAR
VERSION:2.0
PRODID:-//Glenlola Collegiate - ECPv5.16.4//NONSGML v1.0//EN
CALSCALE:GREGORIAN
METHOD:PUBLISH
X-WR-CALNAME:Glenlola Collegiate
X-ORIGINAL-URL:https://glenlolacollegiate.net
X-WR-CALDESC:Events for Glenlola Collegiate
BEGIN:VTIMEZONE
TZID:Europe/London
BEGIN:DAYLIGHT
TZOFFSETFROM:+0000
TZOFFSETTO:+0100
TZNAME:BST
DTSTART:20250330T010000
END:DAYLIGHT
BEGIN:STANDARD
TZOFFSETFROM:+0100
TZOFFSETTO:+0000
TZNAME:GMT
DTSTART:20251026T010000
END:STANDARD
END:VTIMEZONE
BEGIN:VEVENT
DTSTART;TZID=Europe/London:20250613T091500
DTEND;TZID=Europe/London:20250613T151500
DTSTAMP:20260419T175053
CREATED:20250530T142729Z
LAST-MODIFIED:20250530T142729Z
UID:27322-1749806100-1749827700@glenlolacollegiate.net
SUMMARY:Year 10 First Aid Training (3)
DESCRIPTION:Community of Lifesavers (First Savers) training in the Wellness Centre.
URL:https://glenlolacollegiate.net/event/year-10-first-aid-training-3/
END:VEVENT
END:VCALENDAR