BEGIN:VCALENDAR
VERSION:2.0
PRODID:-//Glenlola Collegiate - ECPv5.16.4//NONSGML v1.0//EN
CALSCALE:GREGORIAN
METHOD:PUBLISH
X-WR-CALNAME:Glenlola Collegiate
X-ORIGINAL-URL:https://glenlolacollegiate.net
X-WR-CALDESC:Events for Glenlola Collegiate
BEGIN:VTIMEZONE
TZID:Europe/London
BEGIN:DAYLIGHT
TZOFFSETFROM:+0000
TZOFFSETTO:+0100
TZNAME:BST
DTSTART:20250330T010000
END:DAYLIGHT
BEGIN:STANDARD
TZOFFSETFROM:+0100
TZOFFSETTO:+0000
TZNAME:GMT
DTSTART:20251026T010000
END:STANDARD
END:VTIMEZONE
BEGIN:VEVENT
DTSTART;TZID=Europe/London:20251016T131500
DTEND;TZID=Europe/London:20251016T151500
DTSTAMP:20260423T174949
CREATED:20251013T113522Z
LAST-MODIFIED:20251013T113522Z
UID:27927-1760620500-1760627700@glenlolacollegiate.net
SUMMARY:Visit of Author Joffre White
DESCRIPTION:Author Joffre White to speak to Junior School pupils in the School Library: \n1.15pm – Year 8 pupils and classes 10D\, 10E & 10F \n2.15pm – Year 9 pupils and classes 10A \, 10B & 10C
URL:https://glenlolacollegiate.net/event/visit-of-author-joffre-white/
END:VEVENT
END:VCALENDAR