BEGIN:VCALENDAR
VERSION:2.0
PRODID:-//Glenlola Collegiate - ECPv5.16.4//NONSGML v1.0//EN
CALSCALE:GREGORIAN
METHOD:PUBLISH
X-WR-CALNAME:Glenlola Collegiate
X-ORIGINAL-URL:https://glenlolacollegiate.net
X-WR-CALDESC:Events for Glenlola Collegiate
BEGIN:VTIMEZONE
TZID:Europe/London
BEGIN:DAYLIGHT
TZOFFSETFROM:+0000
TZOFFSETTO:+0100
TZNAME:BST
DTSTART:20260329T010000
END:DAYLIGHT
BEGIN:STANDARD
TZOFFSETFROM:+0100
TZOFFSETTO:+0000
TZNAME:GMT
DTSTART:20261025T010000
END:STANDARD
END:VTIMEZONE
BEGIN:VEVENT
DTSTART;TZID=Europe/London:20260224T123000
DTEND;TZID=Europe/London:20260224T134500
DTSTAMP:20260421T105409
CREATED:20260108T112757Z
LAST-MODIFIED:20260108T112955Z
UID:28324-1771936200-1771940700@glenlolacollegiate.net
SUMMARY:Visit by University of Ulster to Year 13 Pupils
DESCRIPTION:Meeting in school for Year 13 pupils with representatives from the University of Ulster.
URL:https://glenlolacollegiate.net/event/visit-by-university-of-ulster-to-year-13/
END:VEVENT
END:VCALENDAR