BEGIN:VCALENDAR
VERSION:2.0
PRODID:-//Glenlola Collegiate - ECPv5.16.4//NONSGML v1.0//EN
CALSCALE:GREGORIAN
METHOD:PUBLISH
X-WR-CALNAME:Glenlola Collegiate
X-ORIGINAL-URL:https://glenlolacollegiate.net
X-WR-CALDESC:Events for Glenlola Collegiate
BEGIN:VTIMEZONE
TZID:Europe/London
BEGIN:DAYLIGHT
TZOFFSETFROM:+0000
TZOFFSETTO:+0100
TZNAME:BST
DTSTART:20250330T010000
END:DAYLIGHT
BEGIN:STANDARD
TZOFFSETFROM:+0100
TZOFFSETTO:+0000
TZNAME:GMT
DTSTART:20251026T010000
END:STANDARD
END:VTIMEZONE
BEGIN:VEVENT
DTSTART;TZID=Europe/London:20250226T131500
DTEND;TZID=Europe/London:20250226T151500
DTSTAMP:20260424T084421
CREATED:20250127T162446Z
LAST-MODIFIED:20250127T162446Z
UID:26760-1740575700-1740582900@glenlolacollegiate.net
SUMMARY:UU English Talk
DESCRIPTION:University of Ulster English talk.  School-based event.
URL:https://glenlolacollegiate.net/event/uu-english-talk/
END:VEVENT
END:VCALENDAR