BEGIN:VCALENDAR
VERSION:2.0
PRODID:-//Glenlola Collegiate - ECPv5.16.4//NONSGML v1.0//EN
CALSCALE:GREGORIAN
METHOD:PUBLISH
X-WR-CALNAME:Glenlola Collegiate
X-ORIGINAL-URL:https://glenlolacollegiate.net
X-WR-CALDESC:Events for Glenlola Collegiate
BEGIN:VTIMEZONE
TZID:UTC
BEGIN:STANDARD
TZOFFSETFROM:+0000
TZOFFSETTO:+0000
TZNAME:UTC
DTSTART:20200101T000000
END:STANDARD
END:VTIMEZONE
BEGIN:VEVENT
DTSTART;TZID=UTC:20200214T133000
DTEND;TZID=UTC:20200214T153000
DTSTAMP:20260423T225043
CREATED:20200131T143718Z
LAST-MODIFIED:20200131T143813Z
UID:18333-1581687000-1581694200@glenlolacollegiate.net
SUMMARY:Universities and Careers Fair\, Bangor Grammar School
DESCRIPTION:
URL:https://glenlolacollegiate.net/event/universities-and-careers-fair-bangor-grammar-school/
END:VEVENT
END:VCALENDAR