BEGIN:VCALENDAR
VERSION:2.0
PRODID:-//Glenlola Collegiate - ECPv5.16.4//NONSGML v1.0//EN
CALSCALE:GREGORIAN
METHOD:PUBLISH
X-WR-CALNAME:Glenlola Collegiate
X-ORIGINAL-URL:https://glenlolacollegiate.net
X-WR-CALDESC:Events for Glenlola Collegiate
BEGIN:VTIMEZONE
TZID:Europe/London
BEGIN:DAYLIGHT
TZOFFSETFROM:+0000
TZOFFSETTO:+0100
TZNAME:BST
DTSTART:20260329T010000
END:DAYLIGHT
BEGIN:STANDARD
TZOFFSETFROM:+0100
TZOFFSETTO:+0000
TZNAME:GMT
DTSTART:20261025T010000
END:STANDARD
END:VTIMEZONE
BEGIN:VEVENT
DTSTART;TZID=Europe/London:20260623T084500
DTEND;TZID=Europe/London:20260623T143000
DTSTAMP:20260423T211403
CREATED:20260423T124740Z
LAST-MODIFIED:20260423T124740Z
UID:29034-1782204300-1782225000@glenlolacollegiate.net
SUMMARY:Uganda Dander
DESCRIPTION:Charity sponsored walk in aid of Charlene’s Project\, Uganda.
URL:https://glenlolacollegiate.net/event/uganda-dander-4/
END:VEVENT
END:VCALENDAR