BEGIN:VCALENDAR
VERSION:2.0
PRODID:-//Glenlola Collegiate - ECPv5.16.4//NONSGML v1.0//EN
CALSCALE:GREGORIAN
METHOD:PUBLISH
X-WR-CALNAME:Glenlola Collegiate
X-ORIGINAL-URL:https://glenlolacollegiate.net
X-WR-CALDESC:Events for Glenlola Collegiate
BEGIN:VTIMEZONE
TZID:Europe/London
BEGIN:DAYLIGHT
TZOFFSETFROM:+0000
TZOFFSETTO:+0100
TZNAME:BST
DTSTART:20230326T010000
END:DAYLIGHT
BEGIN:STANDARD
TZOFFSETFROM:+0100
TZOFFSETTO:+0000
TZNAME:GMT
DTSTART:20231029T010000
END:STANDARD
END:VTIMEZONE
BEGIN:VEVENT
DTSTART;TZID=Europe/London:20230529T090000
DTEND;TZID=Europe/London:20230529T153000
DTSTAMP:20260423T184433
CREATED:20221011T122612Z
LAST-MODIFIED:20221011T122612Z
UID:22569-1685350800-1685374200@glenlolacollegiate.net
SUMMARY:Staff Development Day - School Closed to Pupils
DESCRIPTION:The school is closed to pupils due to a Staff Development Day.
URL:https://glenlolacollegiate.net/event/staff-development-day-school-closed-to-pupils-3/
END:VEVENT
END:VCALENDAR