BEGIN:VCALENDAR
VERSION:2.0
PRODID:-//Glenlola Collegiate - ECPv5.16.4//NONSGML v1.0//EN
CALSCALE:GREGORIAN
METHOD:PUBLISH
X-WR-CALNAME:Glenlola Collegiate
X-ORIGINAL-URL:https://glenlolacollegiate.net
X-WR-CALDESC:Events for Glenlola Collegiate
BEGIN:VTIMEZONE
TZID:Europe/London
BEGIN:DAYLIGHT
TZOFFSETFROM:+0000
TZOFFSETTO:+0100
TZNAME:BST
DTSTART:20260329T010000
END:DAYLIGHT
BEGIN:STANDARD
TZOFFSETFROM:+0100
TZOFFSETTO:+0000
TZNAME:GMT
DTSTART:20261025T010000
END:STANDARD
END:VTIMEZONE
BEGIN:VEVENT
DTSTART;TZID=Europe/London:20260428T100000
DTEND;TZID=Europe/London:20260428T130000
DTSTAMP:20260423T193116
CREATED:20260423T095100Z
LAST-MODIFIED:20260423T095719Z
UID:28947-1777370400-1777381200@glenlolacollegiate.net
SUMMARY:South-Central Minzu University Dance Event
DESCRIPTION:In-school event. Year 10 pupils involved.
URL:https://glenlolacollegiate.net/event/south-central-minzu-university-dance-event/
END:VEVENT
END:VCALENDAR