BEGIN:VCALENDAR
VERSION:2.0
PRODID:-//Glenlola Collegiate - ECPv5.16.4//NONSGML v1.0//EN
CALSCALE:GREGORIAN
METHOD:PUBLISH
X-WR-CALNAME:Glenlola Collegiate
X-ORIGINAL-URL:https://glenlolacollegiate.net
X-WR-CALDESC:Events for Glenlola Collegiate
BEGIN:VTIMEZONE
TZID:Europe/London
BEGIN:DAYLIGHT
TZOFFSETFROM:+0000
TZOFFSETTO:+0100
TZNAME:BST
DTSTART:20260329T010000
END:DAYLIGHT
BEGIN:STANDARD
TZOFFSETFROM:+0100
TZOFFSETTO:+0000
TZNAME:GMT
DTSTART:20261025T010000
END:STANDARD
END:VTIMEZONE
BEGIN:VEVENT
DTSTART;TZID=Europe/London:20260205T123000
DTEND;TZID=Europe/London:20260205T131500
DTSTAMP:20260423T100527
CREATED:20260107T132729Z
LAST-MODIFIED:20260107T132729Z
UID:28279-1770294600-1770297300@glenlolacollegiate.net
SUMMARY:Scottish Universities Visit
DESCRIPTION:School-based event.
URL:https://glenlolacollegiate.net/event/scottish-universities-visit/
END:VEVENT
END:VCALENDAR