BEGIN:VCALENDAR
VERSION:2.0
PRODID:-//Glenlola Collegiate - ECPv5.16.4//NONSGML v1.0//EN
CALSCALE:GREGORIAN
METHOD:PUBLISH
X-WR-CALNAME:Glenlola Collegiate
X-ORIGINAL-URL:https://glenlolacollegiate.net
X-WR-CALDESC:Events for Glenlola Collegiate
BEGIN:VTIMEZONE
TZID:UTC
BEGIN:STANDARD
TZOFFSETFROM:+0000
TZOFFSETTO:+0000
TZNAME:UTC
DTSTART:20200101T000000
END:STANDARD
END:VTIMEZONE
BEGIN:VEVENT
DTSTART;TZID=UTC:20200224T090000
DTEND;TZID=UTC:20200224T153000
DTSTAMP:20260423T150453
CREATED:20200129T124157Z
LAST-MODIFIED:20200129T124157Z
UID:18254-1582534800-1582558200@glenlolacollegiate.net
SUMMARY:School Development Day
DESCRIPTION:School closed to pupils.
URL:https://glenlolacollegiate.net/event/school-development-day-10/
END:VEVENT
END:VCALENDAR