BEGIN:VCALENDAR
VERSION:2.0
PRODID:-//Glenlola Collegiate - ECPv5.16.4//NONSGML v1.0//EN
CALSCALE:GREGORIAN
METHOD:PUBLISH
X-WR-CALNAME:Glenlola Collegiate
X-ORIGINAL-URL:https://glenlolacollegiate.net
X-WR-CALDESC:Events for Glenlola Collegiate
BEGIN:VTIMEZONE
TZID:UTC
BEGIN:STANDARD
TZOFFSETFROM:+0000
TZOFFSETTO:+0000
TZNAME:UTC
DTSTART:20190101T000000
END:STANDARD
END:VTIMEZONE
BEGIN:VEVENT
DTSTART;TZID=UTC:20190913T140000
DTEND;TZID=UTC:20190913T163000
DTSTAMP:20260424T114903
CREATED:20190905T065019Z
LAST-MODIFIED:20190905T072357Z
UID:16340-1568383200-1568392200@glenlolacollegiate.net
SUMMARY:Prize Distribution 2019
DESCRIPTION:School Assembly Hall.
URL:https://glenlolacollegiate.net/event/prize-distribution-2019/
END:VEVENT
END:VCALENDAR