BEGIN:VCALENDAR
VERSION:2.0
PRODID:-//Glenlola Collegiate - ECPv5.16.4//NONSGML v1.0//EN
CALSCALE:GREGORIAN
METHOD:PUBLISH
X-WR-CALNAME:Glenlola Collegiate
X-ORIGINAL-URL:https://glenlolacollegiate.net
X-WR-CALDESC:Events for Glenlola Collegiate
BEGIN:VTIMEZONE
TZID:UTC
BEGIN:STANDARD
TZOFFSETFROM:+0000
TZOFFSETTO:+0000
TZNAME:UTC
DTSTART:20180101T000000
END:STANDARD
END:VTIMEZONE
BEGIN:VEVENT
DTSTART;TZID=UTC:20180125T183000
DTEND;TZID=UTC:20180125T213000
DTSTAMP:20260420T062228
CREATED:20171207T100849Z
LAST-MODIFIED:20171207T100849Z
UID:12264-1516905000-1516915800@glenlolacollegiate.net
SUMMARY:Open Night 2018
DESCRIPTION:An Open Night for P7 pupils and their parents will take place from 6.30pm to 9.30pm.
URL:https://glenlolacollegiate.net/event/open-night-2018/
END:VEVENT
END:VCALENDAR