BEGIN:VCALENDAR
VERSION:2.0
PRODID:-//Glenlola Collegiate - ECPv5.16.4//NONSGML v1.0//EN
CALSCALE:GREGORIAN
METHOD:PUBLISH
X-WR-CALNAME:Glenlola Collegiate
X-ORIGINAL-URL:https://glenlolacollegiate.net
X-WR-CALDESC:Events for Glenlola Collegiate
BEGIN:VTIMEZONE
TZID:Europe/London
BEGIN:DAYLIGHT
TZOFFSETFROM:+0000
TZOFFSETTO:+0100
TZNAME:BST
DTSTART:20260329T010000
END:DAYLIGHT
BEGIN:STANDARD
TZOFFSETFROM:+0100
TZOFFSETTO:+0000
TZNAME:GMT
DTSTART:20261025T010000
END:STANDARD
END:VTIMEZONE
BEGIN:VEVENT
DTSTART;TZID=Europe/London:20260221T090000
DTEND;TZID=Europe/London:20260221T170000
DTSTAMP:20260423T100637
CREATED:20260107T120621Z
LAST-MODIFIED:20260112T152123Z
UID:28245-1771664400-1771693200@glenlolacollegiate.net
SUMMARY:NI Schools Tumbling Competition
DESCRIPTION:Glenlola Collegiate hosting.
URL:https://glenlolacollegiate.net/event/ni-schools-tumbling-competition/
END:VEVENT
END:VCALENDAR