BEGIN:VCALENDAR
VERSION:2.0
PRODID:-//Glenlola Collegiate - ECPv5.16.4//NONSGML v1.0//EN
CALSCALE:GREGORIAN
METHOD:PUBLISH
X-WR-CALNAME:Glenlola Collegiate
X-ORIGINAL-URL:https://glenlolacollegiate.net
X-WR-CALDESC:Events for Glenlola Collegiate
BEGIN:VTIMEZONE
TZID:UTC
BEGIN:STANDARD
TZOFFSETFROM:+0000
TZOFFSETTO:+0000
TZNAME:UTC
DTSTART:20200101T000000
END:STANDARD
END:VTIMEZONE
BEGIN:VEVENT
DTSTART;TZID=UTC:20200215T090000
DTEND;TZID=UTC:20200221T153000
DTSTAMP:20260423T222257
CREATED:20200129T123456Z
LAST-MODIFIED:20200129T123456Z
UID:18245-1581757200-1582299000@glenlolacollegiate.net
SUMMARY:New York and Washington Trip
DESCRIPTION:History Department trip to New York and Washington DC\, USA.
URL:https://glenlolacollegiate.net/event/new-york-and-washington-trip/
END:VEVENT
END:VCALENDAR