BEGIN:VCALENDAR
VERSION:2.0
PRODID:-//Glenlola Collegiate - ECPv5.16.4//NONSGML v1.0//EN
CALSCALE:GREGORIAN
METHOD:PUBLISH
X-WR-CALNAME:Glenlola Collegiate
X-ORIGINAL-URL:https://glenlolacollegiate.net
X-WR-CALDESC:Events for Glenlola Collegiate
BEGIN:VTIMEZONE
TZID:Europe/London
BEGIN:DAYLIGHT
TZOFFSETFROM:+0000
TZOFFSETTO:+0100
TZNAME:BST
DTSTART:20260329T010000
END:DAYLIGHT
BEGIN:STANDARD
TZOFFSETFROM:+0100
TZOFFSETTO:+0000
TZNAME:GMT
DTSTART:20261025T010000
END:STANDARD
END:VTIMEZONE
BEGIN:VEVENT
DTSTART;TZID=Europe/London:20260206T084500
DTEND;TZID=Europe/London:20260212T151500
DTSTAMP:20260423T100713
CREATED:20260107T133757Z
LAST-MODIFIED:20260107T144649Z
UID:28282-1770367500-1770909300@glenlolacollegiate.net
SUMMARY:New York and Washington Trip
DESCRIPTION:History and Politics pupils visiting USA.
URL:https://glenlolacollegiate.net/event/new-york-and-washington-trip-2/
END:VEVENT
END:VCALENDAR