BEGIN:VCALENDAR
VERSION:2.0
PRODID:-//Glenlola Collegiate - ECPv5.16.4//NONSGML v1.0//EN
CALSCALE:GREGORIAN
METHOD:PUBLISH
X-WR-CALNAME:Glenlola Collegiate
X-ORIGINAL-URL:https://glenlolacollegiate.net
X-WR-CALDESC:Events for Glenlola Collegiate
BEGIN:VTIMEZONE
TZID:Europe/London
BEGIN:DAYLIGHT
TZOFFSETFROM:+0000
TZOFFSETTO:+0100
TZNAME:BST
DTSTART:20260329T010000
END:DAYLIGHT
BEGIN:STANDARD
TZOFFSETFROM:+0100
TZOFFSETTO:+0000
TZNAME:GMT
DTSTART:20261025T010000
END:STANDARD
END:VTIMEZONE
BEGIN:VEVENT
DTSTART;TZID=Europe/London:20260123T113000
DTEND;TZID=Europe/London:20260123T151500
DTSTAMP:20260423T113728
CREATED:20260107T125612Z
LAST-MODIFIED:20260107T125625Z
UID:28258-1769167800-1769181300@glenlolacollegiate.net
SUMMARY:Late School Starting Time
DESCRIPTION:Following the School’s Open Night\, the school day will begin at 11:30am today for all pupils with their timetabled (week 2) period 3 lesson. \nPupils should come into school in time for this lesson but no earlier than 11:00am.
URL:https://glenlolacollegiate.net/event/late-school-starting-time/
END:VEVENT
END:VCALENDAR