BEGIN:VCALENDAR
VERSION:2.0
PRODID:-//Glenlola Collegiate - ECPv5.16.4//NONSGML v1.0//EN
CALSCALE:GREGORIAN
METHOD:PUBLISH
X-WR-CALNAME:Glenlola Collegiate
X-ORIGINAL-URL:https://glenlolacollegiate.net
X-WR-CALDESC:Events for Glenlola Collegiate
BEGIN:VTIMEZONE
TZID:UTC
BEGIN:STANDARD
TZOFFSETFROM:+0000
TZOFFSETTO:+0000
TZNAME:UTC
DTSTART:20180101T000000
END:STANDARD
END:VTIMEZONE
BEGIN:VEVENT
DTSTART;TZID=UTC:20181219T091000
DTEND;TZID=UTC:20181219T123000
DTSTAMP:20260420T094859
CREATED:20181214T090102Z
LAST-MODIFIED:20181214T090458Z
UID:15149-1545210600-1545222600@glenlolacollegiate.net
SUMMARY:Junior School Trip to Cinema
DESCRIPTION:Years 8-10 visiting Bangor Omniplex.
URL:https://glenlolacollegiate.net/event/junior-school-trip-to-cinema/
END:VEVENT
END:VCALENDAR