BEGIN:VCALENDAR
VERSION:2.0
PRODID:-//Glenlola Collegiate - ECPv5.16.4//NONSGML v1.0//EN
CALSCALE:GREGORIAN
METHOD:PUBLISH
X-WR-CALNAME:Glenlola Collegiate
X-ORIGINAL-URL:https://glenlolacollegiate.net
X-WR-CALDESC:Events for Glenlola Collegiate
BEGIN:VTIMEZONE
TZID:Europe/London
BEGIN:DAYLIGHT
TZOFFSETFROM:+0000
TZOFFSETTO:+0100
TZNAME:BST
DTSTART:20260329T010000
END:DAYLIGHT
BEGIN:STANDARD
TZOFFSETFROM:+0100
TZOFFSETTO:+0000
TZNAME:GMT
DTSTART:20261025T010000
END:STANDARD
END:VTIMEZONE
BEGIN:VEVENT
DTSTART;TZID=Europe/London:20260127T100000
DTEND;TZID=Europe/London:20260127T120000
DTSTAMP:20260423T113729
CREATED:20260107T121114Z
LAST-MODIFIED:20260107T121114Z
UID:28254-1769508000-1769515200@glenlolacollegiate.net
SUMMARY:Holocaust Memorial Event
DESCRIPTION:73 pupils attending Holocaust Memorial event in St Columbanus College.
URL:https://glenlolacollegiate.net/event/holocaust-memorial-event/
END:VEVENT
END:VCALENDAR