BEGIN:VCALENDAR
VERSION:2.0
PRODID:-//Glenlola Collegiate - ECPv5.16.4//NONSGML v1.0//EN
CALSCALE:GREGORIAN
METHOD:PUBLISH
X-WR-CALNAME:Glenlola Collegiate
X-ORIGINAL-URL:https://glenlolacollegiate.net
X-WR-CALDESC:Events for Glenlola Collegiate
BEGIN:VTIMEZONE
TZID:Europe/London
BEGIN:DAYLIGHT
TZOFFSETFROM:+0000
TZOFFSETTO:+0100
TZNAME:BST
DTSTART:20250330T010000
END:DAYLIGHT
BEGIN:STANDARD
TZOFFSETFROM:+0100
TZOFFSETTO:+0000
TZNAME:GMT
DTSTART:20251026T010000
END:STANDARD
END:VTIMEZONE
BEGIN:VEVENT
DTSTART;TZID=Europe/London:20250225T131500
DTEND;TZID=Europe/London:20250225T151500
DTSTAMP:20260424T074049
CREATED:20250127T162246Z
LAST-MODIFIED:20250127T162246Z
UID:26757-1740489300-1740496500@glenlolacollegiate.net
SUMMARY:GCSE Physics Practical Exam
DESCRIPTION:School-based external examination.
URL:https://glenlolacollegiate.net/event/gcse-physics-practical-exam-3/
END:VEVENT
END:VCALENDAR