BEGIN:VCALENDAR
VERSION:2.0
PRODID:-//Glenlola Collegiate - ECPv5.16.4//NONSGML v1.0//EN
CALSCALE:GREGORIAN
METHOD:PUBLISH
X-WR-CALNAME:Glenlola Collegiate
X-ORIGINAL-URL:https://glenlolacollegiate.net
X-WR-CALDESC:Events for Glenlola Collegiate
BEGIN:VTIMEZONE
TZID:Europe/London
BEGIN:DAYLIGHT
TZOFFSETFROM:+0000
TZOFFSETTO:+0100
TZNAME:BST
DTSTART:20250330T010000
END:DAYLIGHT
BEGIN:STANDARD
TZOFFSETFROM:+0100
TZOFFSETTO:+0000
TZNAME:GMT
DTSTART:20251026T010000
END:STANDARD
END:VTIMEZONE
BEGIN:VEVENT
DTSTART;TZID=Europe/London:20250313T084500
DTEND;TZID=Europe/London:20250313T151500
DTSTAMP:20260424T064706
CREATED:20250312T134848Z
LAST-MODIFIED:20250312T134848Z
UID:27020-1741855500-1741878900@glenlolacollegiate.net
SUMMARY:GCSE English Language Speaking/Listening Moderation
DESCRIPTION:Year 12 pupils involved.
URL:https://glenlolacollegiate.net/event/gcse-english-language-speaking-listening-moderation/
END:VEVENT
END:VCALENDAR