BEGIN:VCALENDAR
VERSION:2.0
PRODID:-//Glenlola Collegiate - ECPv5.16.4//NONSGML v1.0//EN
CALSCALE:GREGORIAN
METHOD:PUBLISH
X-WR-CALNAME:Glenlola Collegiate
X-ORIGINAL-URL:https://glenlolacollegiate.net
X-WR-CALDESC:Events for Glenlola Collegiate
BEGIN:VTIMEZONE
TZID:Europe/London
BEGIN:DAYLIGHT
TZOFFSETFROM:+0000
TZOFFSETTO:+0100
TZNAME:BST
DTSTART:20260329T010000
END:DAYLIGHT
BEGIN:STANDARD
TZOFFSETFROM:+0100
TZOFFSETTO:+0000
TZNAME:GMT
DTSTART:20261025T010000
END:STANDARD
END:VTIMEZONE
BEGIN:VEVENT
DTSTART;TZID=Europe/London:20260630T084500
DTEND;TZID=Europe/London:20260630T123000
DTSTAMP:20260423T100636
CREATED:20260112T111143Z
LAST-MODIFIED:20260112T111143Z
UID:28449-1782809100-1782822600@glenlolacollegiate.net
SUMMARY:End of Term
DESCRIPTION:School finishes for all pupils at 12.30pm.
URL:https://glenlolacollegiate.net/event/end-of-term-2/
END:VEVENT
END:VCALENDAR