BEGIN:VCALENDAR
VERSION:2.0
PRODID:-//Glenlola Collegiate - ECPv5.16.4//NONSGML v1.0//EN
CALSCALE:GREGORIAN
METHOD:PUBLISH
X-WR-CALNAME:Glenlola Collegiate
X-ORIGINAL-URL:https://glenlolacollegiate.net
X-WR-CALDESC:Events for Glenlola Collegiate
BEGIN:VTIMEZONE
TZID:Europe/London
BEGIN:DAYLIGHT
TZOFFSETFROM:+0000
TZOFFSETTO:+0100
TZNAME:BST
DTSTART:20260329T010000
END:DAYLIGHT
BEGIN:STANDARD
TZOFFSETFROM:+0100
TZOFFSETTO:+0000
TZNAME:GMT
DTSTART:20261025T010000
END:STANDARD
END:VTIMEZONE
BEGIN:VEVENT
DTSTART;TZID=Europe/London:20260218T084500
DTEND;TZID=Europe/London:20260218T144500
DTSTAMP:20260423T100501
CREATED:20260108T104657Z
LAST-MODIFIED:20260108T104657Z
UID:28317-1771404300-1771425900@glenlolacollegiate.net
SUMMARY:Early School Closure
DESCRIPTION:School will finish at 2.45pm to facilitate the Year 10 parent consultations.
URL:https://glenlolacollegiate.net/event/early-school-closure-69/
END:VEVENT
END:VCALENDAR