BEGIN:VCALENDAR
VERSION:2.0
PRODID:-//Glenlola Collegiate - ECPv5.16.4//NONSGML v1.0//EN
CALSCALE:GREGORIAN
METHOD:PUBLISH
X-WR-CALNAME:Glenlola Collegiate
X-ORIGINAL-URL:https://glenlolacollegiate.net
X-WR-CALDESC:Events for Glenlola Collegiate
BEGIN:VTIMEZONE
TZID:Europe/London
BEGIN:DAYLIGHT
TZOFFSETFROM:+0000
TZOFFSETTO:+0100
TZNAME:BST
DTSTART:20250330T010000
END:DAYLIGHT
BEGIN:STANDARD
TZOFFSETFROM:+0100
TZOFFSETTO:+0000
TZNAME:GMT
DTSTART:20251026T010000
END:STANDARD
END:VTIMEZONE
BEGIN:VEVENT
DTSTART;TZID=Europe/London:20250408T084500
DTEND;TZID=Europe/London:20250408T141500
DTSTAMP:20260424T042945
CREATED:20250402T114137Z
LAST-MODIFIED:20250402T114137Z
UID:27089-1744101900-1744121700@glenlolacollegiate.net
SUMMARY:Early School Closure
DESCRIPTION:School will finish for all pupils at 2.15pm to facilitate coursework marking.
URL:https://glenlolacollegiate.net/event/early-school-closure-65/
END:VEVENT
END:VCALENDAR